BEGIN:VCALENDAR
VERSION:2.0
PRODID:-//ChamberMaster//Event Calendar 2.0//EN
METHOD:PUBLISH
X-PUBLISHED-TTL:P3D
REFRESH-INTERVAL:P3D
CALSCALE:GREGORIAN
BEGIN:VEVENT
DTSTART:20211127T030000Z
DTEND:20211129T220000Z
X-MICROSOFT-CDO-ALLDAYEVENT:FALSE
SUMMARY:Shop\, Save\, Explore! at the Montshire
DESCRIPTION:Enjoy FOUR DAYS of savings in the Museum Store! Choose from the Museum Store's unique collection of science and nature-related products. You'll find science kits\, puzzles\, games\, ukuleles\, art supplies\, nature guides\, art calendars\, toys\, books\, journals\, jewelry\, and great stocking stuffers! Savings Include: 25% savings on all Museum Store purchases for members and employees of MBP member companies (please show employee ID at check-out) 20% savings on all Museum Store purchases for non-members Receive $10 off every Gift Membership\, new membership\, or membership renewal Store specials include: Each day\, the first 5 shoppers receive a gift Enter our in-store raffle to win a stuffed emperor penguin for you or someone on your gift list
X-ALT-DESC;FMTTYPE=text/html:Enjoy FOUR DAYS of savings in the Museum Store! Choose from the Museum Store&rsquo\;s unique collection of science and nature-related products. You&rsquo\;ll find science kits\, puzzles\, games\, ukuleles\, art supplies\, nature guides\, art calendars\, toys\, books\, journals\, jewelry\, and great stocking stuffers! Savings Include: 25% savings on all Museum Store purchases for members and employees of MBP member companies (please show employee ID at check-out) 20% savings on all Museum Store purchases for non-members Receive $10 off every Gift Membership\, new membership\, or membership renewal Store specials include: Each day\, the first 5 shoppers receive a gift Enter our in-store raffle to win a stuffed emperor penguin for you or someone on your gift list
LOCATION:Montshire Museum of Science 1 Montshire Road\, Norwich\, VT 05055 USA
UID:e.632.7417
SEQUENCE:3
DTSTAMP:20260421T230125Z
URL:https://business.hartfordvtchamber.com/events/details/shop-save-explore-at-the-montshire-11-26-2021-7417
END:VEVENT

END:VCALENDAR
