BEGIN:VCALENDAR
VERSION:2.0
PRODID:-//ChamberMaster//Event Calendar 2.0//EN
METHOD:PUBLISH
X-PUBLISHED-TTL:P3D
REFRESH-INTERVAL:P3D
CALSCALE:GREGORIAN
BEGIN:VEVENT
DTSTART:20211101T170000Z
DTEND:20211122T191500Z
X-MICROSOFT-CDO-ALLDAYEVENT:FALSE
SUMMARY:Pinball Wizard virtual workshop
DESCRIPTION:Design and build your own working\, cardboard pinball machine around a theme of your choice. Together we will engineer the launchers and flippers. Use your creativity to transform the playing surface with obstacles and colorful designs.
X-ALT-DESC;FMTTYPE=text/html:Design and build your own working\, cardboard pinball machine around a theme of your choice. Together we will engineer the launchers and flippers. Use your creativity to transform the playing surface with obstacles and colorful designs.
LOCATION:Montshire Museum of Science 1 Montshire Road\, Norwich\, VT 05055 USA
UID:e.632.7411
SEQUENCE:3
DTSTAMP:20260421T032310Z
URL:https://business.hartfordvtchamber.com/events/details/pinball-wizard-virtual-workshop-7411
END:VEVENT

END:VCALENDAR
