BEGIN:VCALENDAR
VERSION:2.0
PRODID:-//ChamberMaster//Event Calendar 2.0//EN
METHOD:PUBLISH
X-PUBLISHED-TTL:P3D
REFRESH-INTERVAL:P3D
CALSCALE:GREGORIAN
BEGIN:VEVENT
DTSTART:20210917T220000Z
DTEND:20210917T230000Z
X-MICROSOFT-CDO-ALLDAYEVENT:FALSE
SUMMARY:Owls of the Eastern Ice: A Quest to Find and Save the World’s Largest Owl
DESCRIPTION:Join biologist Jonathan Slaght Ph.D. virtually to hear about his years of work with Blakiston's fish owls in the wilds of Russia.\n\nFrom 2006-2010\, Jonathan Slaght studied Blakiston's fish owls in Russia for his PhD degree in Wildlife Conservation at the University of Minnesota. His memoir of this quest\, called "Owls of the Eastern Ice\," is a rare glimpse into the everyday life of a scientist and the subjects of his deep fascination. Slaght takes us to the Primorye region of Eastern Russia\, where we join a small team for late-night monitoring missions\, on mad dashes across thawing rivers\, drink vodka with mystics\, hermits\, and scientists\, and listen to fireside tales of Amur tigers. Most captivating of all are the fish owls themselves: careful hunters\, devoted parents\, singers of eerie duets\, and irrepressible survivors in a harsh and shrinking habitat.\n\nIn this presentation\, Slaght will describe fish owls and his project\, sharing the story of his months-long trek covering thousands of miles\, spurred by his deep fascination with safeguarding the elusive owl from extinction.\n\nJonathan Slaght is a wildlife biologist and author who works full time for the Wildlife Conservation Society as the Russia and Northeast Asia Coordinator. His writings\, scientific research\, and photographs have been featured by the BBC World Service\, the New York Times\, The Guardian\, Smithsonian Magazine\, The New Yorker\, and Audubon Magazine\, among others.\n\nFor more information on Jonathan Slaght and his work\, please visit his website\, jonathanslaght.com.\n\n\n\nRegister\n\nFor more information about the event\, contact us at info@vinsweb.org or 802.359.5000.
X-ALT-DESC;FMTTYPE=text/html:<p><strong>Join biologist Jonathan Slaght Ph.D. virtually to hear about his years of work with Blakiston&rsquo\;s fish owls in the wilds of Russia.</strong></p>\n\n<p>From 2006-2010\, Jonathan Slaght studied Blakiston&rsquo\;s fish owls in Russia for his PhD degree in Wildlife Conservation at the University of Minnesota. His memoir of this quest\, called &ldquo\;Owls of the Eastern Ice\,&rdquo\; is a rare glimpse into the everyday life of a scientist and the subjects of his deep fascination. Slaght takes us to the Primorye region of Eastern Russia\, where we join a small team for late-night monitoring missions\, on mad dashes across thawing rivers\, drink vodka with mystics\, hermits\, and scientists\, and listen to fireside tales of Amur tigers. Most captivating of all are the fish owls themselves: careful hunters\, devoted parents\, singers of eerie duets\, and irrepressible survivors in a harsh and shrinking habitat.</p>\n\n<p>In this presentation\, Slaght will describe fish owls and his project\, sharing the story of his months-long trek covering thousands of miles\, spurred by his deep fascination with safeguarding the elusive owl from extinction.</p>\n\n<p>Jonathan Slaght is a wildlife biologist and author who works full time for the Wildlife Conservation Society as the Russia and Northeast Asia Coordinator. His writings\, scientific research\, and photographs have been featured by the BBC World Service\, the New York Times\, The Guardian\, Smithsonian Magazine\, The New Yorker\, and Audubon Magazine\, among others.</p>\n\n<p>For more information on Jonathan Slaght and his work\, please visit his website\,&nbsp\;<a href="https://jonathanslaght.com/" rel="noopener" style="box-sizing: border-box\; background-color: transparent\; color: rgb(50\, 152\, 71)\; text-decoration-line: none\;" target="_blank">jonathanslaght.com.</a><br />\n<br />\n<a href="https://www.eventbrite.com/e/owls-of-the-eastern-ice-a-quest-to-find-and-save-the-worlds-largest-owl-registration-168450619337" rel="noopener" style="box-sizing: border-box\; color: rgb(50\, 152\, 71)\; text-decoration-line: none\; font-family: &quot\;Open Sans&quot\;\, sans-serif\; font-size: 14px\;" target="_blank"><strong>Register</strong></a></p>\n\n<p><em>For more information about the event\, contact us at&nbsp\;<a href="mailto:info@vinsweb.org" style="box-sizing: border-box\; background-color: transparent\; color: rgb(50\, 152\, 71)\; text-decoration-line: none\;">info@vinsweb.org</a>&nbsp\;or 802.359.5000.</em></p>\n
LOCATION:Virtual via Zoom
UID:e.632.7378
SEQUENCE:3
DTSTAMP:20260422T020655Z
URL:https://business.hartfordvtchamber.com/events/details/owls-of-the-eastern-ice-a-quest-to-find-and-save-the-world-s-largest-owl-7378
END:VEVENT

END:VCALENDAR
