BEGIN:VCALENDAR
VERSION:2.0
PRODID:-//ChamberMaster//Event Calendar 2.0//EN
METHOD:PUBLISH
X-PUBLISHED-TTL:P3D
REFRESH-INTERVAL:P3D
CALSCALE:GREGORIAN
BEGIN:VEVENT
DTSTART:20210918T130000Z
DTEND:20210918T210000Z
X-MICROSOFT-CDO-ALLDAYEVENT:FALSE
SUMMARY:Owl Festival
DESCRIPTION:Join us for a day of all things owly! Gather with live owls from all over the world\, discover their life stories\, join in a craft\, and play games. Spice up your experience by dressing as your favorite owl! You never know whooo you'll run into.\n\nView Schedule & Details\n\n*Advanced ticket purchase is recommended for this event. Tickets are considered general admission to the Nature Center and may be applied toward the event or another day you decide to visit.\n\nDiscounted rates not available for online ticket purchases. EBT cards\, guest passes\, and library membership cards can be presented the day of the festival for discounts on admission. (Multiple discounts do not apply).\n\nFor more information\, contact us at info@vinsweb.org or 802.359.5000.
X-ALT-DESC;FMTTYPE=text/html:<p>Join us for a day of all things owly! Gather with live owls from all over the world\, discover their life stories\, join in a craft\, and play games. Spice up your experience by dressing as your favorite owl! You never know whooo you&rsquo\;ll run into.</p>\n\n<p><strong><a href="https://vinsweb.org/wp-content/uploads/2021/08/OWL-FESTIVAL-2021-SCHEDULE.pdf" rel="noopener" style="box-sizing: border-box\; background-color: transparent\; color: rgb(50\, 152\, 71)\; text-decoration-line: none\;" target="_blank">View Schedule &amp\; Details</a></strong></p>\n\n<p><em>*Advanced&nbsp\;<a href="https://store.vinsweb.org/product/general-admission/" rel="noopener" style="box-sizing: border-box\; background-color: transparent\; color: rgb(50\, 152\, 71)\; text-decoration-line: none\;" target="_blank"><strong>ticket purchase</strong></a>&nbsp\;is recommended for this event. Tickets are considered general admission to the Nature Center and may be applied toward the event or another day you decide to visit.</em></p>\n\n<p><em>Discounted rates not available for online ticket purchases. EBT cards\, guest passes\, and library membership cards can be presented the day of the festival for discounts on admission. (Multiple discounts do not apply).</em></p>\n\n<p><em>For more information\, contact us at&nbsp\;<a href="mailto:info@vinsweb.org" style="box-sizing: border-box\; background-color: transparent\; color: rgb(50\, 152\, 71)\; text-decoration-line: none\;">info@vinsweb.org</a>&nbsp\;or 802.359.5000.</em></p>\n
LOCATION:VINS Nature Center 149 Natures Way\, Quechee\, VT 05059
UID:e.632.7377
SEQUENCE:3
DTSTAMP:20260422T020538Z
URL:https://business.hartfordvtchamber.com/events/details/owl-festival-09-18-2021-7377
END:VEVENT

END:VCALENDAR
