BEGIN:VCALENDAR
VERSION:2.0
PRODID:-//ChamberMaster//Event Calendar 2.0//EN
METHOD:PUBLISH
X-PUBLISHED-TTL:P3D
REFRESH-INTERVAL:P3D
CALSCALE:GREGORIAN
BEGIN:VEVENT
DTSTART:20220416T130000Z
DTEND:20220416T210000Z
X-MICROSOFT-CDO-ALLDAYEVENT:FALSE
SUMMARY:Owl Festival
DESCRIPTION:Remember to visit the VINS Nature Center for our annual Owl Festival on Saturday\, April 16! Gather with live owls\, discover their life stories\, join in a craft\, and play games. Spice up your experience by dressing as your favorite owl! Visit the Trail Break Taco Trailer from 11:30 AM to 4 PM\, located near the VINS Nature Store!
X-ALT-DESC;FMTTYPE=text/html:Remember to visit the VINS Nature Center for our annual Owl Festival on Saturday\, April 16! Gather with live owls\, discover their life stories\, join in a craft\, and play games. Spice up your experience by dressing as your favorite owl! Visit the Trail Break Taco Trailer from 11:30 AM to 4 PM\, located near the VINS Nature Store!
LOCATION:VINS Nature Center\, Quechee\, VT
UID:e.632.7463
SEQUENCE:3
DTSTAMP:20260421T163746Z
URL:https://business.hartfordvtchamber.com/events/details/owl-festival-04-16-2022-7463
END:VEVENT

END:VCALENDAR
