BEGIN:VCALENDAR
VERSION:2.0
PRODID:-//ChamberMaster//Event Calendar 2.0//EN
METHOD:PUBLISH
X-PUBLISHED-TTL:P3D
REFRESH-INTERVAL:P3D
CALSCALE:GREGORIAN
BEGIN:VEVENT
DTSTART;VALUE=DATE:20220318
DTEND;VALUE=DATE:20220328
TRANSP:TRANSPARENT
X-MICROSOFT-CDO-ALLDAYEVENT:TRUE
SUMMARY:Maple Open House
DESCRIPTION:Visit with the Luce's to learn how maple syrup is made\, hike the maple woods to see how sap is collected with buckets and tubing. Sample the 4 grades of maple syrup and the cheese. Farm store open. Call 802-457-1757 to find out actual boiling times as sap flow and boiling schedule is determined by cold nights and warm days.
X-ALT-DESC;FMTTYPE=text/html:<span style="color:#050505"><span style="font-family:segoe ui historic\,sans-serif"><span style="font-size:11.5pt">Visit with the Luce&#39\;s to learn how maple syrup is made\, hike the maple woods to see how sap is collected with buckets and tubing. Sample the 4 grades of maple syrup and the cheese. Farm store open. Call 802-457-1757 to find out actual boiling times as sap flow and boiling schedule is determined by cold nights and warm days.</span></span></span>
LOCATION:591 Sugarbush Farm Rd Woodstock\, VT 05091
UID:e.632.7433
SEQUENCE:3
DTSTAMP:20260421T163241Z
URL:https://business.hartfordvtchamber.com/events/details/maple-open-house-7433
END:VEVENT

END:VCALENDAR
