BEGIN:VCALENDAR
VERSION:2.0
PRODID:-//ChamberMaster//Event Calendar 2.0//EN
METHOD:PUBLISH
X-PUBLISHED-TTL:P3D
REFRESH-INTERVAL:P3D
CALSCALE:GREGORIAN
BEGIN:VEVENT
DTSTART;VALUE=DATE:20211005
DTEND;VALUE=DATE:20211006
TRANSP:TRANSPARENT
X-MICROSOFT-CDO-ALLDAYEVENT:TRUE
SUMMARY:Junction: A Walking Tour
DESCRIPTION:Junction is a narrative walking tour of White River Junction\, VT\, covering a century and a half of local history\, from the filming of director D.W Griffith's iconic Way Down East in 1920 to the cultural and economic dislocations of the 1970s to the unexpected challenges of 2020\, the strangest year of all.\n\nUsing only a cellphone and a pair of headphones\, individual audience members will be guided from one location to the next as audio scenes play out before them. From the city's storied train station to the stunning convergence of the Connecticut and White Rivers at Lyman Point Park\, Junction reframes the places we think we know.\n\n \n\n1920:\n\nIn 1920\, actress Dorothy Gish takes the train to White River Junction to meet her movie star sister\, Lillian Gish\, on the set of her next project\, D.W. Griffith's silent film Way Down East\, shooting on the frozen Connecticut River. Will Dorothy ever be able to step out from behind her sister's shadow?  \n \n\n1970:\n\nIn 1970\, Cecelia Okocha\, a biracial teenager\, takes a train from Harlem to White River Junction to stay with her godmother   but there is nobody waiting for her at the train station and not a lot of folks in town who look like her. Can this be home?\n \n\n2020:\n\nIn 2020\, Ira\, a local freelance writer\, walks around White River Junction during the pandemic looking for his next story. From birdwatching and wild bobcats\, to protests and unexpected tragedies\, the stories Ira encounters are anything but average.
X-ALT-DESC;FMTTYPE=text/html:<p><span style="font-size:14px"><em>Junction</em><span style="background-color:transparent\; color:rgb(0\, 0\, 0)"> is a narrative walking tour of White River Junction\, VT\, covering a century and a half of local history\, from the filming of director D.W Griffith&rsquo\;s iconic </span><em>Way Down East </em><span style="background-color:transparent\; color:rgb(0\, 0\, 0)">in 1920 to the cultural and economic dislocations of the 1970s to the unexpected challenges of 2020\, the strangest year of all.</span></span></p>\n\n<p><span style="font-size:14px"><span style="background-color:transparent\; color:rgb(0\, 0\, 0)">Using only a cellphone and a pair of headphones\, individual audience members will be guided from one location to the next as audio scenes play out before them. From the city&rsquo\;s storied train station to the stunning convergence of the Connecticut and White Rivers at Lyman Point Park\, </span><em>Junction</em></span><span style="background-color:transparent\; color:rgb(0\, 0\, 0)"><span style="font-size:14px"> reframes the places we think we know.</span></span><br />\n&nbsp\;</p>\n\n<p><span style="font-size:14px"><strong>1920:</strong></span></p>\n\n<p><span style="font-size:14px"><span style="color:rgb(0\, 0\, 0)\; font-family:calibri\,sans-serif">In 1920\, actress Dorothy Gish takes the train to White River Junction to meet her movie star sister\, Lillian Gish\, on the set of her next project\, D.W. Griffith&rsquo\;s silent film Way Down East\, shooting on the frozen Connecticut River. Will Dorothy ever be able to step out from behind her sister&rsquo\;s shadow?&nbsp\;&nbsp\;</span></span></p>\n&nbsp\;\n\n<p><span style="font-size:14px"><strong>1970:</strong></span></p>\n\n<p><span style="font-size:14px"><span style="color:rgb(0\, 0\, 0)\; font-family:calibri\,sans-serif">In 1970\, Cecelia Okocha\, a biracial teenager\, takes a train from Harlem to White River Junction to stay with her godmother &mdash\; but there is nobody waiting for her at the train station&hellip\;and not a lot of folks in town who look like her. Can this be home?</span></span></p>\n&nbsp\;\n\n<p><span style="font-size:14px"><strong>2020:</strong></span></p>\n\n<p><span style="font-size:14px"><span style="color:rgb(0\, 0\, 0)\; font-family:calibri\,sans-serif">In 2020\, Ira\, a local freelance writer\, walks around White River Junction during the pandemic looking for his next story. From birdwatching and wild bobcats\, to protests and unexpected tragedies\, the stories Ira encounters are anything but average.</span></span></p>\n
LOCATION:74 Gates Street\, White River Junction\, VT\, 05001
UID:e.632.7390
SEQUENCE:3
DTSTAMP:20260422T020538Z
URL:https://business.hartfordvtchamber.com/events/details/junction-a-walking-tour-10-05-2021-7390
END:VEVENT

END:VCALENDAR
