BEGIN:VCALENDAR
VERSION:2.0
PRODID:-//ChamberMaster//Event Calendar 2.0//EN
METHOD:PUBLISH
X-PUBLISHED-TTL:P3D
REFRESH-INTERVAL:P3D
CALSCALE:GREGORIAN
BEGIN:VEVENT
DTSTART:20220212T153000Z
DTEND:20220212T200000Z
X-MICROSOFT-CDO-ALLDAYEVENT:FALSE
SUMMARY:Igloo Build and the Science of Winter
DESCRIPTION:Explore and enjoy the season with winter-related science and one of the museum's longest-running traditions Igloo Build! Dubbed the #1 Way to Winter Fun by Yankee Magazine and a "Top 10 Winter Event" by the Vermont Chamber of Commerce\, the Montshire's Igloo Build is guaranteed fun for the whole family.
X-ALT-DESC;FMTTYPE=text/html:Explore and enjoy the season with winter-related science and one of the museum&rsquo\;s longest-running traditions&mdash\;Igloo Build! Dubbed the #1 Way to Winter Fun by Yankee Magazine and a &ldquo\;Top 10 Winter Event&rdquo\; by the Vermont Chamber of Commerce\, the Montshire&rsquo\;s Igloo Build is guaranteed fun for the whole family.
LOCATION:Montshire Museum of Science 1 Montshire Road\, Norwich\, VT 05055 USA
UID:e.632.7423
SEQUENCE:3
DTSTAMP:20260421T182703Z
URL:https://business.hartfordvtchamber.com/events/details/igloo-build-and-the-science-of-winter-02-12-2022-7423
END:VEVENT

END:VCALENDAR
