BEGIN:VCALENDAR
VERSION:2.0
PRODID:-//ChamberMaster//Event Calendar 2.0//EN
METHOD:PUBLISH
X-PUBLISHED-TTL:P3D
REFRESH-INTERVAL:P3D
CALSCALE:GREGORIAN
BEGIN:VEVENT
DTSTART:20220430T140000Z
DTEND:20220430T160000Z
X-MICROSOFT-CDO-ALLDAYEVENT:FALSE
SUMMARY:HCC Drug Take Back Day
DESCRIPTION:We will be at the WRJ co-op from 10-12pm with an officer taking back prescription meds and whatever else people may be getting rid of as they spring clean (e-cigarettes\, expired epi pens\, etc - no questions asked!). There is also a 24/7 lockbox at the Hartford Police Department for medication drop off.
X-ALT-DESC;FMTTYPE=text/html:We will be at the WRJ co-op from 10-12pm with an officer taking back prescription meds and whatever else people may be getting rid of as they spring clean (e-cigarettes\, expired epi pens\, etc - no questions asked!). There is also a 24/7 lockbox at the Hartford Police Department for medication drop off.
LOCATION:
UID:e.632.7464
SEQUENCE:3
DTSTAMP:20260421T163707Z
URL:https://business.hartfordvtchamber.com/events/details/hcc-drug-take-back-day-7464
END:VEVENT

END:VCALENDAR
