BEGIN:VCALENDAR
VERSION:2.0
PRODID:-//ChamberMaster//Event Calendar 2.0//EN
METHOD:PUBLISH
X-PUBLISHED-TTL:P3D
REFRESH-INTERVAL:P3D
CALSCALE:GREGORIAN
BEGIN:VEVENT
DTSTART:20211106T140000Z
DTEND:20211106T200000Z
X-MICROSOFT-CDO-ALLDAYEVENT:FALSE
SUMMARY:Day of Flight at the Montshire
DESCRIPTION:Celebrate the power of air! Can it float? Does it glide? Will it fly? We'll explore the concepts behind our Air Works exhibition and build a variety of contraptions that can soar through the museum.
X-ALT-DESC;FMTTYPE=text/html:Celebrate the power of air! Can it float? Does it glide? Will it fly? We&rsquo\;ll explore the concepts behind our Air Works exhibition and build a variety of contraptions that can soar through the museum.
LOCATION:Montshire Museum of Science 1 Montshire Road\, Norwich\, VT 05055 USA (802) 649-2200
UID:e.632.7415
SEQUENCE:3
DTSTAMP:20260421T230238Z
URL:https://business.hartfordvtchamber.com/events/details/day-of-flight-at-the-montshire-7415
END:VEVENT

END:VCALENDAR
