BEGIN:VCALENDAR
VERSION:2.0
PRODID:-//ChamberMaster//Event Calendar 2.0//EN
METHOD:PUBLISH
X-PUBLISHED-TTL:P3D
REFRESH-INTERVAL:P3D
CALSCALE:GREGORIAN
BEGIN:VEVENT
DTSTART:20220108T153000Z
DTEND:20220108T210000Z
X-MICROSOFT-CDO-ALLDAYEVENT:FALSE
SUMMARY:Creepy Crawly Craft Party
DESCRIPTION:Get crafty with your favorite creepy crawlies! We'll visit the Montshire's live insect colonies and learn all about these fascinating creatures. Combine science and art through insect-inspired projects\, with plenty to take home!
X-ALT-DESC;FMTTYPE=text/html:Get crafty with your favorite creepy crawlies! We&rsquo\;ll visit the Montshire&rsquo\;s live insect colonies and learn all about these fascinating creatures. Combine science and art through insect-inspired projects\, with plenty to take home!
LOCATION:Montshire Museum of Science 1 Montshire Road\, Norwich\, VT 05055 USA
UID:e.632.7421
SEQUENCE:3
DTSTAMP:20260421T195137Z
URL:https://business.hartfordvtchamber.com/events/details/creepy-crawly-craft-party-7421
END:VEVENT

END:VCALENDAR
