BEGIN:VCALENDAR
VERSION:2.0
PRODID:-//ChamberMaster//Event Calendar 2.0//EN
METHOD:PUBLISH
X-PUBLISHED-TTL:P3D
REFRESH-INTERVAL:P3D
CALSCALE:GREGORIAN
BEGIN:VEVENT
DTSTART:20220312T153000Z
DTEND:20220312T213000Z
X-MICROSOFT-CDO-ALLDAYEVENT:FALSE
SUMMARY:Color Celebration
DESCRIPTION:Experience the wonder of color in science! Add some color to the end of winter with a full day of rainbow-inspired science\, while we explore the exhibition The Light Around Us. Try Liquid Rainbows\, Tissue Tie Dye\, Chromatography and more!
X-ALT-DESC;FMTTYPE=text/html:Experience the wonder of color in science! Add some color to the end of winter with a full day of rainbow-inspired science\, while we explore the exhibition The Light Around Us. Try Liquid Rainbows\, Tissue Tie Dye\, Chromatography and more!
LOCATION:Montshire Museum of Science 1 Montshire Road Norwich\, VT 05055
UID:e.632.7432
SEQUENCE:3
DTSTAMP:20260421T163537Z
URL:https://business.hartfordvtchamber.com/events/details/color-celebration-7432
END:VEVENT

END:VCALENDAR
