BEGIN:VCALENDAR
VERSION:2.0
PRODID:-//ChamberMaster//Event Calendar 2.0//EN
METHOD:PUBLISH
X-PUBLISHED-TTL:P3D
REFRESH-INTERVAL:P3D
CALSCALE:GREGORIAN
BEGIN:VEVENT
DTSTART:20211211T153000Z
DTEND:20211211T210000Z
X-MICROSOFT-CDO-ALLDAYEVENT:FALSE
SUMMARY:Astronomy Day at the Montshire
DESCRIPTION:A day of planetary and astronomical exploration! Enjoy a full day of activities for learners of all ages\, covering topics from stars to planets\, comets to meteorites. Join museum staff and guest astronomers as we explore outer space during the darkest month of the year. We'll be making Stomp Rockets\, Pocket Solar Systems\, and Moon Phase Trackers\, and will have meteorites to touch and explore!
X-ALT-DESC;FMTTYPE=text/html:A day of planetary and astronomical exploration! Enjoy a full day of activities for learners of all ages\, covering topics from stars to planets\, comets to meteorites. Join museum staff and guest astronomers as we explore outer space during the darkest month of the year. We&#39\;ll be making Stomp Rockets\, Pocket Solar Systems\, and Moon Phase Trackers\, and will have meteorites to touch and explore!
LOCATION:1 Montshire Road Norwich\, VT 05055
UID:e.632.7418
SEQUENCE:3
DTSTAMP:20260421T212227Z
URL:https://business.hartfordvtchamber.com/events/details/astronomy-day-at-the-montshire-7418
END:VEVENT

END:VCALENDAR
