BEGIN:VCALENDAR
VERSION:2.0
PRODID:-//ChamberMaster//Event Calendar 2.0//EN
METHOD:PUBLISH
X-PUBLISHED-TTL:P3D
REFRESH-INTERVAL:P3D
CALSCALE:GREGORIAN
BEGIN:VEVENT
DTSTART:20211002T143000Z
DTEND:20211002T203000Z
X-MICROSOFT-CDO-ALLDAYEVENT:FALSE
SUMMARY:Archaeology Day
DESCRIPTION:Focusing on the study of humans through found objects\, Archaeology Day combines both science and history through a day full of ancient artifacts and hands-on demonstrations\, with our special guest\, the Vermont State Archeologist.
X-ALT-DESC;FMTTYPE=text/html:Focusing on the study of humans through found objects\, Archaeology Day combines both science and history through a day full of ancient artifacts and hands-on demonstrations\, with our special guest\, the Vermont State Archeologist.
LOCATION:Montshire Museum of Science 1 Montshire Road\, Norwich\, VT 05055 USA
UID:e.632.7381
SEQUENCE:3
DTSTAMP:20260422T003515Z
URL:https://business.hartfordvtchamber.com/events/details/archaeology-day-10-02-2021-7381
END:VEVENT

END:VCALENDAR
